BEGIN:VCALENDAR
PRODID:-//SUCCESS Activity//iCal4j 1.0//EN
VERSION:2.0
CALSCALE:GREGORIAN
BEGIN:VEVENT
DTSTAMP:20260424T101758Z
DTSTART:20260511T153000
DTEND:20260511T170000
SUMMARY:「中小企及NGO携手推动ESG：将社会影响力转化为品牌价值」
UID:cb3cce35-d23f-4e07-bace-5f1bf4e2c02e
LOCATION:九龙城协调道3号工业贸易大楼13楼1301室\n工业贸易署中小企业支援与谘询中心
DESCRIPTION:主办机构：工业贸易署中小企业支援与谘询中心 (SUCCESS)\n讲者：\n林仕骏博士\n- 香港理工大学酒店及旅游业管理学院
 助理教授\n袁德志先生\n- 绿德好有限公司行政总监
X-ALT-DESC;FMTTYPE=text/html:<p style="font-size: 16px\;">\n	内容：<br>\n	<br>
 \n	<strong>课题：</strong><strong>「中小企及NGO携手推动ESG：将社会影响力转化为品牌价值 」</strong></p
 >\n<p style="font-size: 16px\;">\n	<br>\n	良好的环境、社会与管治（ESG）表现能提升企业的品牌价值和市场竞
 争力。中小企业有甚么可靠且可负担的方式实践永续发展？是次研讨会将邀请ESG及非政府组织（NGO） 领域的专家探讨中小企业与NGO的策略性合作如何把社
 会和环境影响力转化为品牌价值。研讨会将会讲述与NGO携手的ESG项目如何提高品牌信任度和差异化优势，并介绍适用于小型企业的实用合作模式，举例说明完善
 的ESG举措如何加强市场营销、客户忠诚度和持分者参与，旨在协助中小企业透过ESG实践打造值得信赖及具影响力的品牌。<br>\n	<br>\n	此研讨
 会是中小企服务中心「四合一」研讨会系列其中一个研讨会。<br>\n	&nbsp\;</p>\n<p style="font-size: 16px\;
 ">\n	语言：广东话</p>\n<p style="font-size: 16px\;">\n	讲者：</p>\n<ul style="font-
 size: 16px\;">\n	<li>\n		林仕骏博士</li>\n</ul>\n<div style="font-size: 16px\;"
 >\n	<span style="font-family: Helvetica\, &quot\;Myriad Pro&quot\;\, Arial
 \;">- 香港理工大学酒店及旅游业管理学院助理教授</span></div>\n<div style="font-size: 16px\;">\n
 	<ul>\n		<li>\n			袁德志先生</li>\n	</ul>\n	<div>\n		<span style="font-family: 
 Helvetica\, &quot\;Myriad Pro&quot\;\, Arial\;">- 绿德好有限公司行政总监</span></div>
 \n</div>\n<br>\n<br>\n<p style="font-size: 16px\;">\n	登记：欢迎有兴趣人士参加。<br>\n	
 <br>\n	<a href="https://www.success.tid.gov.hk/success_enews/flyer/Flyer_2
 0260511_SChi.pdf" target="_blank"><strong><u><font color="#0066cc">下载详情</f
 ont></u></strong></a></p>
END:VEVENT
END:VCALENDAR





















 











